BEGIN:VCALENDAR
VERSION:2.0
PRODID:-//Power Yoga Institute - ECPv6.15.20//NONSGML v1.0//EN
CALSCALE:GREGORIAN
METHOD:PUBLISH
X-WR-CALNAME:Power Yoga Institute
X-ORIGINAL-URL:https://www.poweryogainstitute.de
X-WR-CALDESC:Veranstaltungen für Power Yoga Institute
REFRESH-INTERVAL;VALUE=DURATION:PT1H
X-Robots-Tag:noindex
X-PUBLISHED-TTL:PT1H
BEGIN:VTIMEZONE
TZID:Europe/Berlin
BEGIN:DAYLIGHT
TZOFFSETFROM:+0100
TZOFFSETTO:+0200
TZNAME:CEST
DTSTART:20240331T010000
END:DAYLIGHT
BEGIN:STANDARD
TZOFFSETFROM:+0200
TZOFFSETTO:+0100
TZNAME:CET
DTSTART:20241027T010000
END:STANDARD
BEGIN:DAYLIGHT
TZOFFSETFROM:+0100
TZOFFSETTO:+0200
TZNAME:CEST
DTSTART:20250330T010000
END:DAYLIGHT
BEGIN:STANDARD
TZOFFSETFROM:+0200
TZOFFSETTO:+0100
TZNAME:CET
DTSTART:20251026T010000
END:STANDARD
BEGIN:DAYLIGHT
TZOFFSETFROM:+0100
TZOFFSETTO:+0200
TZNAME:CEST
DTSTART:20260329T010000
END:DAYLIGHT
BEGIN:STANDARD
TZOFFSETFROM:+0200
TZOFFSETTO:+0100
TZNAME:CET
DTSTART:20261025T010000
END:STANDARD
END:VTIMEZONE
BEGIN:VEVENT
DTSTART;VALUE=DATE:20250527
DTEND;VALUE=DATE:20260101
DTSTAMP:20260420T175921
CREATED:20250527T103908Z
LAST-MODIFIED:20250527T103908Z
UID:10000676-1748304000-1767225599@www.poweryogainstitute.de
SUMMARY:On Demand: Yogalehrer Ausbildung (50H)
DESCRIPTION:Vertiefe Dein Verständnis des Yoga und erhalte eine solide methodische Grundlage für das Unterrichten von Power Vinyasa Yoga & Yin Yoga! \n  \nMaximale Flexibilität und Eigenorganisation durch die On Demand Online Ausbildung mit 6 Monate Zugriff auf das Online Material. \nUmfang der On Demand Ausbildung: \nDas Training umfasst 15 Stunden Videomaterial\, begleitet durch strukturiertes Selbststudium\, intensives Üben der gezeigten Sequenzen\, tägliche Praxis mit dem Manual und vertiefende Live-Q&As.\nMit diesem Material kann sofort unterrichtet werden – es ist praxisorientiert und direkt anwendbar.\nDie 50 Stunden ergeben sich aus: \n\nVideolektionen\nAsana-Praxis & Wiederholung\nReflektion & schriftliche Aufgaben\nIntegration in den Alltag\nLive-Q&A-Sessions als Supervision\n\nDas Online-Training ist noch intensiver als ein Präsenztraining: Du bekommst nicht nur Inhalte\, sondern auch Werkzeuge\, ein durchdachtes Manual\, 6 Monate Zugriff – und kontinuierliche Begleitung. Du kannst jederzeit wiederholen\, vertiefen und dadurch wirklich wachsen. \n\nDIE 50H ON DEMAND LEHRERAUSBILDUNG IST GEEIGNET FÜR ALLE\n\n• die ihre Yogapraxis vertiefen möchten\n• die Yogasequenzen und Yogalehrerbasiswissen erlernen möchten\n• die in das Unterrichten von Yoga reinschnuppern möchten und mit den Sequenzen gleich nach dem Training loslegen wollen\n• die flexibel und selbstständig lernen\n• die ein praktisches\, effizientes\, flexibles\, zertifiziertes Ausbildungsprogramm suchen\n• die einen Einblick in die physischen und psychologischen Inhalte wünschen\n• die sich für eine längere Yoga- Ausbildung interessieren\n• die Yoga gerne verstärkt in ihr Leben integrieren möchten\n• die bereits Yoga unterrichten\, aber mehr über unser Verständnis von Yoga erfahren möchten\n\n50H Online Teacher Training – 6 Monate Zugriff\nHier gehts zum Online Studio mit Vorschau auf die Kapitelübersicht.  \nPreis: 1200 Euro \nVoraussetzungen:\n\n• Spaß\, Freude und der aufrichtige Wunsch seine Yogapraxis zu vertiefen\n• Kurssprache ist Deutsch\n• Laptop\, PC\, Tablet + eigene Yogamatte und genug Platz zum Üben\n\nGeeignet für:\n\nAlle\, die als Yogalehrer/in unterrichten möchten\, aber auch für diejenigen\, die ihre Yogapraxis vertiefen möchten. Aus diesem Grund besteht unser Ausbildungsverlauf auch aus separaten Einheiten\, die getrennt voneinander gebucht werden können.\n\n[/vc_column_text][/vc_column][/vc_row][vc_row][vc_column][vc_column_text] \nFür weitere Fragen und Informationen stehen wir Dir gerne unter info@poweryogainstitute.de zur Verfügung.\n[/vc_column_text][/vc_column][/vc_row][vc_row][vc_column][vc_video link=“https://youtu.be/nh3EnHAmo2I“][/vc_column][/vc_row]
URL:https://www.poweryogainstitute.de/event/on-demand-yogalehrer-ausbildung-50h/
LOCATION:Online
CATEGORIES:50H Teacher Training,Teacher Training
ATTACH;FMTTYPE=image/jpeg:https://www.poweryogainstitute.de/wp-content/uploads/2022/09/190815_Poweryoga_2015_HR-scaled.jpg
END:VEVENT
BEGIN:VEVENT
DTSTART;VALUE=DATE:20250920
DTEND;VALUE=DATE:20251124
DTSTAMP:20260420T175921
CREATED:20230711T093515Z
LAST-MODIFIED:20250513T104049Z
UID:10000672-1758326400-1763942399@www.poweryogainstitute.de
SUMMARY:Vor Ort & Online: Yogalehrer Ausbildung (200H)
DESCRIPTION:[vc_row][vc_column][vc_column_text] \nDu möchtest Yogalehrer/in werden oder deine Praxis vertiefen? Dann mache den nächsten Step und absolviere die vor Ort & Online Yogalehrer Ausbildung (Yoga Alliance zertifiziert) bei Power Yoga Institute!\n  \nMit unserer Vor Ort & Online Yogalehrer Ausbildung (200 Std.) erhältst Du in der Kombination aus vor Ort im Studio-Modulen und/oder Livestream Sessions sowie einem Zugang zu unserem umfangreichen Online-Ausbildungsstudio die perfekten Voraussetzungen für deinen erfolgreichen Abschluss zum/zur Yogalehrer/in! \nDie bekannten Yoga- und Meditationsexperten Andrea Kubasch und Dirk Bennewitz haben die vor Ort & Online Yogalehrer Ausbildung mit Sofort-Start entwickelt! \n\nDeine Vorteile für die Vor Ort & Online Yogalehrer Ausbildung mit Sofort-Start: \n\nBei Bezahlung des vollständigen Betrages geht gleich der Unterricht los! Der Einstieg ist jederzeit möglich.\nSofortiges kostenloses Üben in unseren Vor Ort & Livestream-Klassen!\nZugang und Einstieg in das 200 Std. Online-Yogalehrer-Ausbildungsstudio mit zahlreichen Videos\, Übungssequenzen und 400-seitigem Online-Handbuch.\nInhaltlich und organisatorisch hast Du als Teilnehmer/in unserer Yoga Ausbildung stets einen Ansprechpartner\, der Dir zur Seite steht\, wann immer Du Hilfe benötigst.\nDu kannst Dir flexibel einteilen\, ob Du vor Ort und/oder via Livestream dabei sein möchtest! PS: Es gibt im Nachhinein keine Preisreduktion\, falls Du nur im Livestream dabei sein möchtest.\nDurch die Kombination von Vor-Ort- & Online-Modulen kannst Du Dir deine Ausbildung individuell gestalten und garantiert erfolgreich abschließen!\n\n  \n\nDie 200 Stunden „+“ Yogalehrer Ausbildung entspricht den Anforderungen der Yoga Alliance/Europa\, USA sowie Australien und ist international anerkannt. \nUnter bestimmten Voraussetzungen wird unser Training als Bildungsurlaub sowie von Krankenkassen anerkannt und wir akzeptieren Bildungsgutscheine! \n\n[/vc_column_text][/vc_column][/vc_row][vc_row][vc_column][vc_column_text] \nInhalte & Termine\n[/vc_column_text][/vc_column][/vc_row][vc_row][vc_column width=“1/4″][vc_column_text el_class=“light-green padding-around“] \nMODUL 1 – GRUNDLAGEN DES YOGA\n  \n\nEthik & Psychologie des Yoga-Unterrichts\n\nMantra\n\n\nMudra\n\n\nBandha\n\n\nYoga Philosophie\n\n\nStimme\, Sprache und Musik im Unterricht\n\n\nTeaching Methodology\n\n\nTechniques Training\n\nHands-On\n\n\n20. – 21.09.2025 \n  \n[/vc_column_text][/vc_column][vc_column width=“1/4″][vc_column_text el_class=“light-green padding-around“] \nMODUL 2 – AUFBAUSTUFE xxxxxxxxxxxx\n  \n\nGrundlagen der Yoga Assists\n\nAsana Praxis\n\n\nMeditationspraxis\n\nAnatomie\nBewegungsfreiheit durch Yin Yoga\nFaszienmassage\n\nVertiefung bestimmter Yoga Asanas\n\nSequenzierung von faszialen Yin Yoga Flows mit & ohne Hilfsmittel\nHands-On Assists\nAdjustments & Hilfestellungen für alle Yoga-Asana\nYoga Community schaffen durch Partnerarbeit\nWie Du Deine eigenen Yoga-Assist & Adjustments kreierst\n\n03. – 05.10.2025  \n\n[/vc_column_text][/vc_column][vc_column width=“1/4″][vc_column_text el_class=“light-green padding-around“] \nMODUL 3 – LEHRERTRAINING xxxxxxxxx\n  \n\n\nTechniques Training\nUrsachenforschung & Diagnosetools\nEinführung in die 4 anatomischen Grundzuglinien im Körper\nVerständnis der Aufgabe der Faszien im Körper\nBody Reading des menschlichen Skelettes\nYin Yoga & Yoga Nidra\nfasziale Entspannungstechniken\nTeaching Methodology\nAsana Praxis\nMeditationspraxis\nVorbereitung und Gestaltung von Yoga-Unterrichtseinheiten\nTechniken für gekonnte Unterrichtsanleitung\nPräsenz als Lehrer*In und Verbindung zum Übenden\n\n\n\n31.10. – 02.11.2025 + 08. – 09.11.2025  \n[/vc_column_text][/vc_column][vc_column width=“1/4″][vc_column_text el_class=“light-green padding-around“] \nMODUL 4 – MASTERSEQUENCING & PRÜFUNG \n  \n\n\n\nPrüfungsvorbereitung und Prüfung\n\nWie man Community im Unterrichtsraum schafft\nDie Kunst der Kurschoreographie\nVerspielte Sonnengrüße und neue Asana Shapes\nSequenzierung von advanced Asana\nKreative Transitionen\nWie man Community im Unterrichtsraum schafft\n\n\n22. – 23.11.2025 \n\n[/vc_column_text][/vc_column][/vc_row][vc_row][vc_column][vc_column_text] \nModule & Tarife:\n1. Gold : Power Yoga Intensive & Lehrertraining (Modul 1-4):\nGeeignet für alle\, die ihr Wissen über Yoga und Ihre eigene Praxis umfassend entwickeln möchten\, auch ohne selbst unterrichten zu wollen\, aber auch geeignet für alle\, die erlernen wollen\, wie man Yoga unterrichtet: Didaktik\, Rhetorik\, Sequencing\, rotierendes Unterrichten\, Feedback. \n2. Platin: Personal Coaching mit den Gründern von Power Yoga Institute während der gesamten Yoga Ausbildung:\nGeeignet für alle\, die erlernen wollen\, wie man Yoga unterrichtet: Didaktik\, Rhetorik\, Sequencing\, rotierendes Unterrichten\, Feedback. Und die einen Partner haben wollen\, der motiviert und Dir hilft\, einen konkreten Yogalehrer-Erfolgsplan umzusetzen.[/vc_column_text][/vc_column][/vc_row][vc_row][vc_column width=“1/2″][vc_column_text el_class=“light-green padding-around“] \nGOLD AUSBILDUNG\n200h Training inkl. Yogalehrer Ausbildung \n\nMODUL 1 – Grundlagen des Yoga\nMODUL 2 – Aufbaustufe\nMODUL 3 – 4 Lehrertraining\nMitgliedschaft im Preis enthalten\n10 % Discount auf Online Trainingsinhalte\nDiscount auf Workshops\nTeacher Training Manual inkl.\nAuch nach der Ausbildung besteht ein 3-monatiger Zugang zum Ausbildungs-Online-Studio mit Videos\, Manuals usw.\n\nEarly Bird Preis: 3.250 Euro (bei vollständiger Bezahlung & Anmeldung bis 21.07.2025). \nRegulärer Preis: (ab 22.07.2025): 3.800 Euro (bei vollständiger Bezahlung & Anmeldung bis 19.09.2025). \n\n[/vc_column_text][/vc_column][vc_column width=“1/2″][vc_column_text el_class=“light-green padding-around“] \nPLATIN AUSBILDUNG\n200h Yogalehrer Ausbildung und Coaching \n\nMODUL 1 – Grundlagen des Yoga\nMODUL 2 – Aufbaustufe\nMODUL 3 – 4 Lehrertraining\nMitgliedschaft im Preis enthalten\n20% Discount auf Workshops\nTeacher Training Manual inkl.\nAuch nach der Ausbildung besteht ein 5-monatiger Zugang zum Ausbildungs-Online-Studio mit Videos\, Manuals usw.\nMentorship mit Andrea oder Dirk\nMonatlicher Coaching Call mit Dirk oder Andrea\n10% Discount auf Privatstunden mit Dirk & Andrea während der Yoga Ausbildung\n24/7 Coaching E-Mail\n2 kostenlose Coaching Sessions\nErstellung eines konkreten Yogalehrer-Erfolgsplanes (Für deine Strategie nach der Yogalehrer Ausbildung)                                                                                                      \n\nEarly Bird Preis: 4.250 Euro (bei vollständiger Bezahlung & Anmeldung bis 21.07.2025). \nRegulärer Preis: (ab 22.07.2025): 4.800 Euro (bei vollständiger Bezahlung & Anmeldung bis 19.09.2025). [/vc_column_text][/vc_column][/vc_row][vc_row][vc_column][vc_column_text] \nZahlungsoptionen:\nDu kannst den Gesamtbetrag bequem auf einmal zahlen – oder flexibel in Raten aufteilen. \nEine Ratenzahlung ist möglich: \n\n\n\nab Buchung bis Ausbildungsstart\noder – nach Absprache – auch über den Ausbildungszeitraum hinweg\n\n\n\n→ Schreib uns einfach\, wenn Du eine Ratenzahlung möchtest – wir finden eine Lösung\, die für Dich passt. \nVoraussetzungen:\n\nSpaß\, Freude und der aufrichtige Wunsch seine Yogapraxis zu vertiefen\nKurssprache ist Deutsch\n\n  \nGeeignet für:\n\nAlle\, die als Yogalehrer/in unterrichten möchten\, aber auch für diejenigen\, die ihre Yogapraxis vertiefen möchten. Aus diesem Grund besteht unser Ausbildungsverlauf auch aus separaten Einheiten\, die getrennt voneinander gebucht werden können.\n\n[/vc_column_text][/vc_column][/vc_row][vc_row][vc_column][vc_column_text] \nWeitere Informationen:\nUm mehr über unsere kommende Yogalehrer Ausbildung zu erfahren\, kannst Du Dich entweder zu unserem kostenfreien Webinar anmelden oder vereinbare ein kostenloses Gespräch mit uns über unser Kontaktformular. \nANMELDUNG\nDu kannst Dich über unsere Webseite oder Eversports verbindlich anmelden. Bitte sende uns zusätzlich folgendes Anmeldeformular via E-Mail an info@poweryogainstitute.de oder per Post zu. Du erhältst dann eine Willkommens-E-Mail von uns und kannst direkt starten. \nANMELDEFORMULAR YOGALEHRER AUSBILDUNG \nFür weitere Fragen und Informationen stehen wir Dir gerne unter info@poweryogainstitute.de zur Verfügung.\n[/vc_column_text][/vc_column][/vc_row][vc_row][vc_column][vc_video link=“https://youtu.be/nh3EnHAmo2I“][/vc_column][/vc_row]
URL:https://www.poweryogainstitute.de/event/vor-ort-online-yogalehrer-ausbildung-200h-startmai25/
LOCATION:Power Yoga Institute Winterhude\, Mühlenkamp 41 (Hinterhof)\, Mühlenkamp 41 (Hinterhof)\, Hamburg\, 22303\, Deutschland
CATEGORIES:Teacher Training
ATTACH;FMTTYPE=image/jpeg:https://www.poweryogainstitute.de/wp-content/uploads/2022/09/190815_Poweryoga_2015_HR-scaled.jpg
GEO:53.5820727;10.0107753
X-APPLE-STRUCTURED-LOCATION;VALUE=URI;X-ADDRESS=Power Yoga Institute Winterhude Mühlenkamp 41 (Hinterhof) Mühlenkamp 41 (Hinterhof) Hamburg 22303 Deutschland;X-APPLE-RADIUS=500;X-TITLE=Mühlenkamp 41 (Hinterhof):geo:10.0107753,53.5820727
END:VEVENT
END:VCALENDAR